BEGIN:VCALENDAR
VERSION:2.0
PRODID:-//jEvents 2.0 for Joomla//EN
CALSCALE:GREGORIAN
METHOD:PUBLISH
BEGIN:VTIMEZONE
TZID:Indian/Mahe
BEGIN:STANDARD
DTSTART:20220622T150000
RDATE:20380119T071407
TZOFFSETFROM:+0400
TZOFFSETTO:+0400
TZNAME:Indian/Mahe +04
END:STANDARD
END:VTIMEZONE
BEGIN:VEVENT
UID:d17d445c5c00ebea9ed9dc85d0ee1c7e
CATEGORIES:JAS
CREATED:20230620T081703
SUMMARY:Synthesis of stable single-crystalline carbon dioxide clathrate powder by pressure swing crystallization
LOCATION:Classroom
DESCRIPTION;ENCODING=QUOTED-PRINTABLE:JAS -1\nby\nMr. Palash Jyoti Gogoi\n\nTitle of the Paper:&nbsp; Synthesis o
 f stable single-crystalline carbon dioxide clathrate powder by pressure swi
 ng crystallization\nJournal name:&nbsp; Cell Reports Physical Science\nDOI:
 https://doi.org/10.1016/j.xcrp.2023.101383\non\nFriday, Jun 23, 2023\nTime:
 3:00 pm\nVenue: Classroom\n This event was imported from: https://www.cens.
 res.in/hi/events/eventdetail/436/-/synthesis-of-stable-single-crystalline-c
 arbon-dioxide-clathrate-powder-by-pressure-swing-crystallization?tmpl=compo
 nent
DTSTAMP:20260424T125651Z
DTSTART;TZID=Indian/Mahe:20230623T150000
DTEND;TZID=Indian/Mahe:20230623T170000
SEQUENCE:0
TRANSP:OPAQUE
END:VEVENT
END:VCALENDAR