BEGIN:VCALENDAR
VERSION:2.0
PRODID:-//jEvents 2.0 for Joomla//EN
CALSCALE:GREGORIAN
METHOD:PUBLISH
BEGIN:VTIMEZONE
TZID:Indian/Mahe
BEGIN:STANDARD
DTSTART:20140910T230000
RDATE:20380119T071407
TZOFFSETFROM:+0400
TZOFFSETTO:+0400
TZNAME:Indian/Mahe +04
END:STANDARD
END:VTIMEZONE
BEGIN:VEVENT
UID:81bd80a486dc35a95cd047701949e785
CATEGORIES:Cens Colloquium
CREATED:20170703T054605
SUMMARY:Colloquium: Third generation solar cells: Materials & Processes
LOCATION:LECTURE HALL
DESCRIPTION;ENCODING=QUOTED-PRINTABLE:ColloquiumThird generation solar cells: Materials &amp; Processes\nby\nProf
 . Mukundan Thelakkat\nDepartment of Macromolecular Chemistry\nUniversity of
  Bayreuth\nBayreuth, Germany\non\nFriday, 11 September 2015\nTime: 11.00 A.
 M.\nVenue: Lecture Hall\n This event was imported from: https://www.cens.re
 s.in/hi/events/eventdetail/20/-/colloquium-third-generation-solar-cells-mat
 erials-processes?tmpl=component
DTSTAMP:20260424T013027Z
DTSTART;TZID=Indian/Mahe:20150911T230000
SEQUENCE:0
TRANSP:OPAQUE
END:VEVENT
END:VCALENDAR