BEGIN:VCALENDAR
VERSION:2.0
PRODID:-//jEvents 2.0 for Joomla//EN
CALSCALE:GREGORIAN
METHOD:PUBLISH
BEGIN:VTIMEZONE
TZID:Indian/Mahe
BEGIN:STANDARD
DTSTART:20221225T113000
RDATE:20380119T071407
TZOFFSETFROM:+0400
TZOFFSETTO:+0400
TZNAME:Indian/Mahe +04
END:STANDARD
END:VTIMEZONE
BEGIN:VEVENT
UID:2c42de14df9020b3102840365ac2e040
CATEGORIES:Special Events
CREATED:20240101T103202
SUMMARY:Atomic-scale processing using selective atomic layer deposition and etching
LOCATION:Classroom
DESCRIPTION;ENCODING=QUOTED-PRINTABLE:<p style="text-align: center;"><span style="font-size: 14pt;"><strong><span
  style="font-family: 'book antiqua', palatino;">Atomic-scale processing usi
 ng selective atomic layer deposition and etching</span></strong></span></p>
 <p style="margin: 0px 0px 10px; color: #444444; font-family: Verdana, Helve
 tica, Arial, sans-serif; font-size: 16px; font-style: normal; font-weight: 
 400; letter-spacing: normal; orphans: 2; text-indent: 0px; text-transform: 
 none; widows: 2; word-spacing: 0px; white-space: normal; text-align: center
 ;"><span style="font-size: 12pt;">by</span></p><p style="margin: 0px 0px 10
 px; color: #444444; font-family: Verdana, Helvetica, Arial, sans-serif; fon
 t-size: 16px; font-style: normal; font-weight: 400; letter-spacing: normal;
  orphans: 2; text-indent: 0px; text-transform: none; widows: 2; word-spacin
 g: 0px; white-space: normal; text-align: center;"><span style="font-family:
  'book antiqua', palatino;"><strong style="font-weight: bold;"><span style=
 "font-size: 12pt;">Prof.&nbsp;</span></strong><strong>Adrie Mackus</strong>
 </span></p><p style="margin: 0px 0px 10px; color: #444444; font-family: Ver
 dana, Helvetica, Arial, sans-serif; font-size: 16px; font-style: normal; fo
 nt-weight: 400; letter-spacing: normal; orphans: 2; text-indent: 0px; text-
 transform: none; widows: 2; word-spacing: 0px; white-space: normal; text-al
 ign: center;"><span style="font-family: 'book antiqua', palatino;"><span st
 yle="font-size: 10pt;">Dept. of Applied Physics, Eindhoven University of Te
 chnology, Eindhoven, the Netherlands</span></span></p><p style="margin: 0px
  0px 10px; color: #444444; font-family: Verdana, Helvetica, Arial, sans-ser
 if; font-size: 16px; font-style: normal; font-weight: 400; letter-spacing: 
 normal; orphans: 2; text-indent: 0px; text-transform: none; widows: 2; word
 -spacing: 0px; white-space: normal; text-align: center;"><span style="font-
 size: 12pt; font-family: 'book antiqua', palatino;">on</span></p><p style="
 margin: 0px 0px 10px; color: #444444; font-family: Verdana, Helvetica, Aria
 l, sans-serif; font-size: 16px; font-style: normal; font-weight: 400; lette
 r-spacing: normal; orphans: 2; text-indent: 0px; text-transform: none; wido
 ws: 2; word-spacing: 0px; white-space: normal; text-align: center;"><strong
 ><span style="font-size: 12pt; font-family: 'book antiqua', palatino;">Tues
 day, 26 December 2023</span></strong></p><p style="margin: 0px 0px 10px; co
 lor: #444444; font-family: Verdana, Helvetica, Arial, sans-serif; font-size
 : 16px; font-style: normal; font-weight: 400; letter-spacing: normal; orpha
 ns: 2; text-indent: 0px; text-transform: none; widows: 2; word-spacing: 0px
 ; white-space: normal; text-align: center;"><span style="font-size: 12pt; f
 ont-family: 'book antiqua', palatino;">Time:11:30 am</span></p><p style="ma
 rgin: 0px 0px 10px; color: #444444; font-family: Verdana, Helvetica, Arial,
  sans-serif; font-size: 16px; font-style: normal; font-weight: 400; letter-
 spacing: normal; orphans: 2; text-indent: 0px; text-transform: none; widows
 : 2; word-spacing: 0px; white-space: normal; text-align: center;"><span sty
 le="font-size: 12pt; font-family: 'book antiqua', palatino;">Venue Classroo
 m</span></p> This event was imported from: https://www.cens.res.in/hi/about
 -us/people/eventdetail/465/-/atomic-scale-processing-using-selective-atomic
 -layer-deposition-and-etching?tmpl=component
DTSTAMP:20260422T161129Z
DTSTART;TZID=Indian/Mahe:20231226T113000
DTEND;TZID=Indian/Mahe:20231226T130000
SEQUENCE:0
TRANSP:OPAQUE
END:VEVENT
END:VCALENDAR