BEGIN:VCALENDAR
VERSION:2.0
PRODID:-//jEvents 2.0 for Joomla//EN
CALSCALE:GREGORIAN
METHOD:PUBLISH
BEGIN:VTIMEZONE
TZID:Indian/Mahe
BEGIN:STANDARD
DTSTART:20210227T110000
RDATE:20380119T071407
TZOFFSETFROM:+0400
TZOFFSETTO:+0400
TZNAME:Indian/Mahe +04
END:STANDARD
END:VTIMEZONE
BEGIN:VEVENT
UID:236c87544b48cb797e4de206b45a678f
CATEGORIES:Lecture
CREATED:20220222T090711
SUMMARY:Perfectly Reasonable Approximations: Dealing with the real world
LOCATION:Online
DESCRIPTION;ENCODING=QUOTED-PRINTABLE:Special Lecture&nbsp;\nPerfectly Reasonable Approximations: Dealing with th
 e real world\nby\nProf. Sabyasachi Bhattacharya\nDirector, TCG-CREST, Kolka
 ta\non\nMonday, 28 February 2022\nTime: 11:00AM\n This event was imported f
 rom: https://www.cens.res.in/hi/about-us/people/eventdetail/353/-/perfectly
 -reasonable-approximations-dealing-with-the-real-world?tmpl=component
DTSTAMP:20260424T020633Z
DTSTART;TZID=Indian/Mahe:20220228T110000
DTEND;TZID=Indian/Mahe:20220228T130000
SEQUENCE:0
TRANSP:OPAQUE
END:VEVENT
END:VCALENDAR