BEGIN:VCALENDAR
VERSION:2.0
PRODID:-//jEvents 2.0 for Joomla//EN
CALSCALE:GREGORIAN
METHOD:PUBLISH
BEGIN:VTIMEZONE
TZID:Indian/Mahe
BEGIN:STANDARD
DTSTART:20210120T150000
RDATE:20380119T071407
TZOFFSETFROM:+0400
TZOFFSETTO:+0400
TZNAME:Indian/Mahe +04
END:STANDARD
END:VTIMEZONE
BEGIN:VEVENT
UID:dc27de31166ca2374d51a216bac025b3
CATEGORIES:JAS
CREATED:20220119T132705
SUMMARY:Self-sustained green neuromorphic interfaces
LOCATION:Online
DESCRIPTION;ENCODING=QUOTED-PRINTABLE:JAS-2&nbsp;"Self-sustained&nbsp;green&nbsp;neuromorphic&nbsp;interfaces"T. 
 Fu, et al., Nat. Commun. 12, 3351 (2021)&nbsp;By&nbsp;Swathi S P&nbsp;On&nb
 sp;Friday, 21 Jan 2021Time: 03.00 P.M.&nbsp; This event was imported from: 
 https://www.cens.res.in/en/about-us/people/eventdetail/347/-/self-sustained
 -green-neuromorphic-interfaces?tmpl=component
DTSTAMP:20260422T071900Z
DTSTART;TZID=Indian/Mahe:20220121T150000
DTEND;TZID=Indian/Mahe:20220121T170000
SEQUENCE:0
TRANSP:OPAQUE
END:VEVENT
END:VCALENDAR